BEGIN:VCALENDAR
VERSION:2.0
PRODID:-//Gartenfreunde Kupferteich e.V. - ECPv6.3.5//NONSGML v1.0//EN
CALSCALE:GREGORIAN
METHOD:PUBLISH
X-ORIGINAL-URL:https://gartenfreunde-kupferteich.de
X-WR-CALDESC:Veranstaltungen für Gartenfreunde Kupferteich e.V.
REFRESH-INTERVAL;VALUE=DURATION:PT1H
X-Robots-Tag:noindex
X-PUBLISHED-TTL:PT1H
BEGIN:VTIMEZONE
TZID:Europe/Paris
BEGIN:DAYLIGHT
TZOFFSETFROM:+0100
TZOFFSETTO:+0200
TZNAME:CEST
DTSTART:20230326T010000
END:DAYLIGHT
BEGIN:STANDARD
TZOFFSETFROM:+0200
TZOFFSETTO:+0100
TZNAME:CET
DTSTART:20231029T010000
END:STANDARD
END:VTIMEZONE
BEGIN:VEVENT
DTSTART;VALUE=DATE:20230407
DTEND;VALUE=DATE:20230409
DTSTAMP:20260423T191243
CREATED:20230328T203022Z
LAST-MODIFIED:20240323T195746Z
UID:144-1680908400-1680994799@gartenfreunde-kupferteich.de
SUMMARY:Ostereier suchen
DESCRIPTION:
URL:https://gartenfreunde-kupferteich.de/event/ostereier-suchen/
CATEGORIES:Termine
END:VEVENT
END:VCALENDAR