BEGIN:VCALENDAR
VERSION:2.0
PRODID:-//Gartenfreunde Kupferteich e.V. - ECPv6.3.5//NONSGML v1.0//EN
CALSCALE:GREGORIAN
METHOD:PUBLISH
X-ORIGINAL-URL:https://gartenfreunde-kupferteich.de
X-WR-CALDESC:Veranstaltungen für Gartenfreunde Kupferteich e.V.
REFRESH-INTERVAL;VALUE=DURATION:PT1H
X-Robots-Tag:noindex
X-PUBLISHED-TTL:PT1H
BEGIN:VTIMEZONE
TZID:Europe/Paris
BEGIN:DAYLIGHT
TZOFFSETFROM:+0100
TZOFFSETTO:+0200
TZNAME:CEST
DTSTART:20240331T010000
END:DAYLIGHT
BEGIN:STANDARD
TZOFFSETFROM:+0200
TZOFFSETTO:+0100
TZNAME:CET
DTSTART:20241027T010000
END:STANDARD
END:VTIMEZONE
BEGIN:VEVENT
DTSTART;TZID=Europe/Paris:20240324T100000
DTEND;TZID=Europe/Paris:20240324T130000
DTSTAMP:20260423T015439
CREATED:20240323T194151Z
LAST-MODIFIED:20240323T200334Z
UID:222-1711274400-1711285200@gartenfreunde-kupferteich.de
SUMMARY:Gemeinschaftsarbeit
DESCRIPTION:
URL:https://gartenfreunde-kupferteich.de/event/gemeinschaftsarbeit/
CATEGORIES:Termine
END:VEVENT
BEGIN:VEVENT
DTSTART;TZID=Europe/Paris:20240330T110000
DTEND;TZID=Europe/Paris:20240330T110000
DTSTAMP:20260423T015439
CREATED:20240323T194645Z
LAST-MODIFIED:20240323T195745Z
UID:232-1711796400-1711796400@gartenfreunde-kupferteich.de
SUMMARY:Wasser anstellen
DESCRIPTION:
URL:https://gartenfreunde-kupferteich.de/event/wasser-anstellen/
CATEGORIES:Termine
END:VEVENT
BEGIN:VEVENT
DTSTART;VALUE=DATE:20240331
DTEND;VALUE=DATE:20240401
DTSTAMP:20260423T015439
CREATED:20240323T195446Z
LAST-MODIFIED:20240323T195745Z
UID:242-1711843200-1711929599@gartenfreunde-kupferteich.de
SUMMARY:Ostereiersuche und Osterschoppen
DESCRIPTION:
URL:https://gartenfreunde-kupferteich.de/event/ostereiersuche-und-osterschoppen/
CATEGORIES:Termine
END:VEVENT
END:VCALENDAR