BEGIN:VCALENDAR
VERSION:2.0
PRODID:-//Gartenfreunde Kupferteich e.V. - ECPv6.3.5//NONSGML v1.0//EN
CALSCALE:GREGORIAN
METHOD:PUBLISH
X-WR-CALNAME:Gartenfreunde Kupferteich e.V.
X-ORIGINAL-URL:https://gartenfreunde-kupferteich.de
X-WR-CALDESC:Veranstaltungen für Gartenfreunde Kupferteich e.V.
REFRESH-INTERVAL;VALUE=DURATION:PT1H
X-Robots-Tag:noindex
X-PUBLISHED-TTL:PT1H
BEGIN:VTIMEZONE
TZID:Europe/Paris
BEGIN:DAYLIGHT
TZOFFSETFROM:+0100
TZOFFSETTO:+0200
TZNAME:CEST
DTSTART:20240331T010000
END:DAYLIGHT
BEGIN:STANDARD
TZOFFSETFROM:+0200
TZOFFSETTO:+0100
TZNAME:CET
DTSTART:20241027T010000
END:STANDARD
END:VTIMEZONE
BEGIN:VEVENT
DTSTART;TZID=Europe/Paris:20240407T100000
DTEND;TZID=Europe/Paris:20240407T130000
DTSTAMP:20260423T001455
CREATED:20240323T194237Z
LAST-MODIFIED:20240323T195745Z
UID:224-1712484000-1712494800@gartenfreunde-kupferteich.de
SUMMARY:Gemeinschaftsarbeit
DESCRIPTION:
URL:https://gartenfreunde-kupferteich.de/event/gemeinschaftsarbeit-2/
CATEGORIES:Termine
END:VEVENT
BEGIN:VEVENT
DTSTART;VALUE=DATE:20240413
DTEND;VALUE=DATE:20240414
DTSTAMP:20260423T001455
CREATED:20240323T194511Z
LAST-MODIFIED:20240323T195745Z
UID:230-1712966400-1713052799@gartenfreunde-kupferteich.de
SUMMARY:Mitgliederversammlung
DESCRIPTION:
URL:https://gartenfreunde-kupferteich.de/event/mitgliederversammlung/
CATEGORIES:Termine
END:VEVENT
END:VCALENDAR